BEGIN:VCALENDAR
VERSION:2.0
PRODID:-//wp-events-plugin.com//6.6.4.4//EN
TZID:Europe/Madrid
X-WR-TIMEZONE:Europe/Madrid
BEGIN:VEVENT
UID:573@cbesparreguera.cat
DTSTART;TZID=Europe/Madrid:20240513T191500
DTEND;TZID=Europe/Madrid:20240513T201500
DTSTAMP:20240306T190527Z
URL:https://www.cbesparreguera.cat/events/infantil-femeni-2024-05-13/
SUMMARY:Infantil Femení
DESCRIPTION:
CATEGORIES:Infantil Femení
LOCATION:https://maps.app.goo.gl/BGTpyF2p5XKJovo78
END:VEVENT
BEGIN:VTIMEZONE
TZID:Europe/Madrid
X-LIC-LOCATION:Europe/Madrid
BEGIN:DAYLIGHT
DTSTART:20240331T030000
TZOFFSETFROM:+0100
TZOFFSETTO:+0200
TZNAME:CEST
END:DAYLIGHT
END:VTIMEZONE
END:VCALENDAR